BEGIN:VCALENDAR
VERSION:2.0
PRODID:icalendar-ruby
CALSCALE:GREGORIAN
METHOD:PUBLISH
BEGIN:VEVENT
DTSTAMP:20260423T033122Z
UID:7-273902@pmbcmoulton.com
DTSTART:20260927T160000Z
DTEND:20260927T170000Z
CLASS:PUBLIC
CREATED:20260422T221417
DESCRIPTION:
LAST-MODIFIED:20260422T221417
LOCATION:184 Co. Rd. 311\, Moulton\, AL 35650
SUMMARY:Sunday Worship Service
URL;VALUE=URI:https://www.pmbcmoulton.com/events/sunday-worship-service/202
 6-09-27
ATTACH;FILENAME=Sunday-Service-2.jpeg;FMTTYPE=image/jpeg:https://dq5pwpg1q8
 ru0.cloudfront.net/2025/07/26/00/46/27/eb9af4d2-45b2-4359-b810-b87c34ddbec
 1/Sunday-Service-2.jpeg
END:VEVENT
END:VCALENDAR
