BEGIN:VCALENDAR
VERSION:2.0
PRODID:icalendar-ruby
CALSCALE:GREGORIAN
METHOD:PUBLISH
BEGIN:VEVENT
DTSTAMP:20260419T122717Z
UID:34-270598@pmbcmoulton.com
DTSTART;VALUE=DATE:20260419
DTEND;VALUE=DATE:20260419
CLASS:PUBLIC
CREATED:20260418T203251
DESCRIPTION:2026 VBS Shirt Order Information\nSizes Available: (youth) xs-l
 \, (adult) s-xl\, 2x\, 3x\nCost: $12 for youth/adult s-xl.  $14 for 2x\, 
 3x.\nPlease make checks to Mollie Bradford.\nPlease see Kelly to order t-s
 hirts.
LAST-MODIFIED:20260418T203251
LOCATION:
SUMMARY:2026 VBS Shirt Order Info
URL;VALUE=URI:https://www.pmbcmoulton.com/events/2026-vbs-shirt-order-info/
 2026-04-19
ATTACH;FILENAME=wonder-website-banner-2.jpg;FMTTYPE=image/jpeg:https://dq5p
 wpg1q8ru0.cloudfront.net/2026/04/19/01/32/51/b43f77b8-cbb3-4572-a1ea-8ac84
 d00b709/wonder-website-banner-2.jpg
END:VEVENT
END:VCALENDAR
